BEGIN:VCALENDAR
VERSION:2.0
PRODID:-//Christ Church - ECPv6.15.20//NONSGML v1.0//EN
CALSCALE:GREGORIAN
METHOD:PUBLISH
X-WR-CALNAME:Christ Church
X-ORIGINAL-URL:https://christchurchphila.org
X-WR-CALDESC:Events for Christ Church
REFRESH-INTERVAL;VALUE=DURATION:PT1H
X-Robots-Tag:noindex
X-PUBLISHED-TTL:PT1H
BEGIN:VTIMEZONE
TZID:America/New_York
BEGIN:DAYLIGHT
TZOFFSETFROM:-0500
TZOFFSETTO:-0400
TZNAME:EDT
DTSTART:20250309T070000
END:DAYLIGHT
BEGIN:STANDARD
TZOFFSETFROM:-0400
TZOFFSETTO:-0500
TZNAME:EST
DTSTART:20251102T060000
END:STANDARD
BEGIN:DAYLIGHT
TZOFFSETFROM:-0500
TZOFFSETTO:-0400
TZNAME:EDT
DTSTART:20260308T070000
END:DAYLIGHT
BEGIN:STANDARD
TZOFFSETFROM:-0400
TZOFFSETTO:-0500
TZNAME:EST
DTSTART:20261101T060000
END:STANDARD
BEGIN:DAYLIGHT
TZOFFSETFROM:-0500
TZOFFSETTO:-0400
TZNAME:EDT
DTSTART:20270314T070000
END:DAYLIGHT
BEGIN:STANDARD
TZOFFSETFROM:-0400
TZOFFSETTO:-0500
TZNAME:EST
DTSTART:20271107T060000
END:STANDARD
END:VTIMEZONE
BEGIN:VEVENT
DTSTART;TZID=America/New_York:20260425T170000
DTEND;TZID=America/New_York:20260425T180000
DTSTAMP:20260421T140913
CREATED:20260222T232400Z
LAST-MODIFIED:20260312T190825Z
UID:10001230-1777136400-1777140000@christchurchphila.org
SUMMARY:Death and Taxes: The Man Behind the Legend Tour
DESCRIPTION:“…in this world\, nothing can be said to be certain\, except death and taxes.” — Benjamin Franklin\, 1789\n\n\n\nBenjamin Franklin was more than just a Founding Father—he was a tinker\, printer\, swimmer\, and even a spy. But in the end\, even he couldn’t escape life’s two certainties: death and taxes. \nJoin us this April at Christ Church Burial Ground for a captivating tour exploring Franklin’s legacy through the graves of his family\, his rivals\, and his fellow revolutionaries. Along the way\, we’ll share fascinating stories\, little-known facts\, and his most memorable sayings\, offering a deeper look at the man behind the legend.
URL:https://christchurchphila.org/event/death-and-taxes-the-man-behind-the-legend-tour/2026-04-25/
LOCATION:Christ Church Burial Ground\, Arch St & N 5th St\, Philadelphia\, PA\, 19106\, United States
CATEGORIES:Historic Events
ATTACH;FMTTYPE=image/png:https://christchurchphila.org/wp-content/uploads/2025/04/Christ-Church-Event-Images-1.png
END:VEVENT
BEGIN:VEVENT
DTSTART;TZID=America/New_York:20260501T170000
DTEND;TZID=America/New_York:20260501T180000
DTSTAMP:20260421T140913
CREATED:20260420T142102Z
LAST-MODIFIED:20260420T142111Z
UID:10001231-1777654800-1777658400@christchurchphila.org
SUMMARY:Remember the Ladies: After Hours Tour
DESCRIPTION:Uncover the stories of Philadelphia’s women trailblazers on an after-hours tour of the Burial Ground. \n\n\n\n\nStep into the untold stories of history’s hidden heroes. \nJoin us after hours for an intimate look at the lives and legacies of the remarkable women laid to rest at Christ Church Burial Ground. You’ll meet trailblazers like Julia Stockton Rush\, Sarah Franklin Bache—women whose courage and contributions helped shape Philadelphia and the nation. \nThrough these powerful stories of resilience and quiet revolution\, you’ll see the past from a fresh\, inspiring perspective. \nTours run every Friday evening in May. Come walk among legends.
URL:https://christchurchphila.org/event/remember-the-ladies-after-hours-tour/2026-05-01/
LOCATION:Christ Church Burial Ground\, Arch St & N 5th St\, Philadelphia\, PA\, 19106\, United States
CATEGORIES:Historic Events
ATTACH;FMTTYPE=image/png:https://christchurchphila.org/wp-content/uploads/2025/04/Christ-Church-Event-Images-1-copy-2.png
END:VEVENT
BEGIN:VEVENT
DTSTART;TZID=America/New_York:20260503T170000
DTEND;TZID=America/New_York:20260503T180000
DTSTAMP:20260421T140913
CREATED:20260420T145718Z
LAST-MODIFIED:20260420T145718Z
UID:10001288-1777827600-1777831200@christchurchphila.org
SUMMARY:Choral Evensong
DESCRIPTION:Join us for an Evensong with the Christ Church choir. Free and open to the public.
URL:https://christchurchphila.org/event/choral-evensong/
LOCATION:Christ Church\, N 2nd St & Church St\, Philadelphia\, PA\, 19106\, United States
CATEGORIES:Church Events
ATTACH;FMTTYPE=image/jpeg:https://christchurchphila.org/wp-content/uploads/2026/04/669993863_1349138440580257_7493109652946670026_n.jpg
END:VEVENT
BEGIN:VEVENT
DTSTART;TZID=America/New_York:20260505T120000
DTEND;TZID=America/New_York:20260505T130000
DTSTAMP:20260421T140913
CREATED:20260420T145903Z
LAST-MODIFIED:20260420T145903Z
UID:10001289-1777982400-1777986000@christchurchphila.org
SUMMARY:Noon Organ Recitals
DESCRIPTION:May 5\, May 12\, May 19\, May 26 \nFree and open to the public!
URL:https://christchurchphila.org/event/noon-organ-recitals/2026-05-05/
LOCATION:Christ Church\, N 2nd St & Church St\, Philadelphia\, PA\, 19106\, United States
CATEGORIES:Arts and Culture Events,Church Events
ATTACH;FMTTYPE=image/jpeg:https://christchurchphila.org/wp-content/uploads/2024/01/christ-church-organ-fisk-op.-150-e1663703514847.jpeg
END:VEVENT
END:VCALENDAR