BEGIN:VCALENDAR
VERSION:2.0
PRODID:-//Christ Church - ECPv6.15.20//NONSGML v1.0//EN
CALSCALE:GREGORIAN
METHOD:PUBLISH
X-ORIGINAL-URL:https://christchurchphila.org
X-WR-CALDESC:Events for Christ Church
REFRESH-INTERVAL;VALUE=DURATION:PT1H
X-Robots-Tag:noindex
X-PUBLISHED-TTL:PT1H
BEGIN:VTIMEZONE
TZID:America/New_York
BEGIN:DAYLIGHT
TZOFFSETFROM:-0500
TZOFFSETTO:-0400
TZNAME:EDT
DTSTART:20250309T070000
END:DAYLIGHT
BEGIN:STANDARD
TZOFFSETFROM:-0400
TZOFFSETTO:-0500
TZNAME:EST
DTSTART:20251102T060000
END:STANDARD
BEGIN:DAYLIGHT
TZOFFSETFROM:-0500
TZOFFSETTO:-0400
TZNAME:EDT
DTSTART:20260308T070000
END:DAYLIGHT
BEGIN:STANDARD
TZOFFSETFROM:-0400
TZOFFSETTO:-0500
TZNAME:EST
DTSTART:20261101T060000
END:STANDARD
BEGIN:DAYLIGHT
TZOFFSETFROM:-0500
TZOFFSETTO:-0400
TZNAME:EDT
DTSTART:20270314T070000
END:DAYLIGHT
BEGIN:STANDARD
TZOFFSETFROM:-0400
TZOFFSETTO:-0500
TZNAME:EST
DTSTART:20271107T060000
END:STANDARD
END:VTIMEZONE
BEGIN:VEVENT
DTSTART;TZID=America/New_York:20260602T120000
DTEND;TZID=America/New_York:20260602T130000
DTSTAMP:20260423T005238
CREATED:20260420T145903Z
LAST-MODIFIED:20260420T145903Z
UID:10001293-1780401600-1780405200@christchurchphila.org
SUMMARY:Noon Organ Recitals
DESCRIPTION:May 5\, May 12\, May 19\, May 26 \nFree and open to the public!
URL:https://christchurchphila.org/event/noon-organ-recitals/2026-06-02/
LOCATION:Christ Church\, N 2nd St & Church St\, Philadelphia\, PA\, 19106\, United States
CATEGORIES:Arts and Culture Events,Church Events
ATTACH;FMTTYPE=image/jpeg:https://christchurchphila.org/wp-content/uploads/2024/01/christ-church-organ-fisk-op.-150-e1663703514847.jpeg
END:VEVENT
BEGIN:VEVENT
DTSTART;TZID=America/New_York:20260605T170000
DTEND;TZID=America/New_York:20260605T180000
DTSTAMP:20260423T005238
CREATED:20260420T142102Z
LAST-MODIFIED:20260420T142111Z
UID:10001236-1780678800-1780682400@christchurchphila.org
SUMMARY:Remember the Ladies: After Hours Tour
DESCRIPTION:Uncover the stories of Philadelphia’s women trailblazers on an after-hours tour of the Burial Ground. \n\n\n\n\nStep into the untold stories of history’s hidden heroes. \nJoin us after hours for an intimate look at the lives and legacies of the remarkable women laid to rest at Christ Church Burial Ground. You’ll meet trailblazers like Julia Stockton Rush\, Sarah Franklin Bache—women whose courage and contributions helped shape Philadelphia and the nation. \nThrough these powerful stories of resilience and quiet revolution\, you’ll see the past from a fresh\, inspiring perspective. \nTours run every Friday evening in May. Come walk among legends.
URL:https://christchurchphila.org/event/remember-the-ladies-after-hours-tour/2026-06-05/
LOCATION:Christ Church Burial Ground\, Arch St & N 5th St\, Philadelphia\, PA\, 19106\, United States
CATEGORIES:Historic Events
ATTACH;FMTTYPE=image/png:https://christchurchphila.org/wp-content/uploads/2025/04/Christ-Church-Event-Images-1-copy-2.png
END:VEVENT
END:VCALENDAR