BEGIN:VCALENDAR
VERSION:2.0
PRODID:-//Christ Church - ECPv6.15.20//NONSGML v1.0//EN
CALSCALE:GREGORIAN
METHOD:PUBLISH
X-ORIGINAL-URL:https://christchurchphila.org
X-WR-CALDESC:Events for Christ Church
REFRESH-INTERVAL;VALUE=DURATION:PT1H
X-Robots-Tag:noindex
X-PUBLISHED-TTL:PT1H
BEGIN:VTIMEZONE
TZID:America/New_York
BEGIN:DAYLIGHT
TZOFFSETFROM:-0500
TZOFFSETTO:-0400
TZNAME:EDT
DTSTART:20250309T070000
END:DAYLIGHT
BEGIN:STANDARD
TZOFFSETFROM:-0400
TZOFFSETTO:-0500
TZNAME:EST
DTSTART:20251102T060000
END:STANDARD
BEGIN:DAYLIGHT
TZOFFSETFROM:-0500
TZOFFSETTO:-0400
TZNAME:EDT
DTSTART:20260308T070000
END:DAYLIGHT
BEGIN:STANDARD
TZOFFSETFROM:-0400
TZOFFSETTO:-0500
TZNAME:EST
DTSTART:20261101T060000
END:STANDARD
BEGIN:DAYLIGHT
TZOFFSETFROM:-0500
TZOFFSETTO:-0400
TZNAME:EDT
DTSTART:20270314T070000
END:DAYLIGHT
BEGIN:STANDARD
TZOFFSETFROM:-0400
TZOFFSETTO:-0500
TZNAME:EST
DTSTART:20271107T060000
END:STANDARD
END:VTIMEZONE
BEGIN:VEVENT
DTSTART;TZID=America/New_York:20260403T190000
DTEND;TZID=America/New_York:20260403T210000
DTSTAMP:20260421T181034
CREATED:20260119T003035Z
LAST-MODIFIED:20260119T003059Z
UID:10001218-1775242800-1775250000@christchurchphila.org
SUMMARY:The Seven Last Words and Triumph of Christ
DESCRIPTION:April 3\, 7pm. Pamela Decker’s organ cycle The Seven Last Words and Triumph of Christ\, performed by Parker Kitterman\, with special readings for Good Friday. This modern-day masterpiece was premiered in 2018\, the same year that Christ Church’s C.B. Fisk organ was completed\, and is ideally suited to this instrument\, with its clear and colorful sonorities. Free will offering.
URL:https://christchurchphila.org/event/the-seven-last-words-and-triumph-of-christ/
LOCATION:Christ Church\, N 2nd St & Church St\, Philadelphia\, PA\, 19106\, United States
CATEGORIES:Church Events
ATTACH;FMTTYPE=image/jpeg:https://christchurchphila.org/wp-content/uploads/2024/01/christ-church-organ-fisk-op.-150-e1663703514847.jpeg
END:VEVENT
BEGIN:VEVENT
DTSTART;TZID=America/New_York:20260321T120000
DTEND;TZID=America/New_York:20260321T140000
DTSTAMP:20260421T181034
CREATED:20260119T002946Z
LAST-MODIFIED:20260305T192039Z
UID:10001217-1774094400-1774101600@christchurchphila.org
SUMMARY:Bach Birthday Festival Concert
DESCRIPTION:March 21\, 12 noon. Bach Birthday Festival concert. Organists Balint Karosi\, Aaron Patterson\, Hannah Albrecht\, and Parker Kitterman join forces to celebrate the all-time great composer. Free!
URL:https://christchurchphila.org/event/bach-birthday-festival-concert/
LOCATION:Christ Church\, N 2nd St & Church St\, Philadelphia\, PA\, 19106\, United States
CATEGORIES:Arts and Culture Events,Church Events
ATTACH;FMTTYPE=image/png:https://christchurchphila.org/wp-content/uploads/2026/01/Bach-Birthday-Festival-recital-poster-3-21-26.pdf-1.png
END:VEVENT
END:VCALENDAR